BEGIN:VCALENDAR
VERSION:2.0
PRODID:-//The Center on Colfax - LGBTQ Colorado - ECPv6.15.20//NONSGML v1.0//EN
CALSCALE:GREGORIAN
METHOD:PUBLISH
X-WR-CALNAME:The Center on Colfax - LGBTQ Colorado
X-ORIGINAL-URL:https://lgbtqcolorado.org
X-WR-CALDESC:Events for The Center on Colfax - LGBTQ Colorado
REFRESH-INTERVAL;VALUE=DURATION:PT1H
X-Robots-Tag:noindex
X-PUBLISHED-TTL:PT1H
BEGIN:VTIMEZONE
TZID:America/Denver
BEGIN:DAYLIGHT
TZOFFSETFROM:-0700
TZOFFSETTO:-0600
TZNAME:MDT
DTSTART:20240310T090000
END:DAYLIGHT
BEGIN:STANDARD
TZOFFSETFROM:-0600
TZOFFSETTO:-0700
TZNAME:MST
DTSTART:20241103T080000
END:STANDARD
BEGIN:DAYLIGHT
TZOFFSETFROM:-0700
TZOFFSETTO:-0600
TZNAME:MDT
DTSTART:20250309T090000
END:DAYLIGHT
BEGIN:STANDARD
TZOFFSETFROM:-0600
TZOFFSETTO:-0700
TZNAME:MST
DTSTART:20251102T080000
END:STANDARD
BEGIN:DAYLIGHT
TZOFFSETFROM:-0700
TZOFFSETTO:-0600
TZNAME:MDT
DTSTART:20260308T090000
END:DAYLIGHT
BEGIN:STANDARD
TZOFFSETFROM:-0600
TZOFFSETTO:-0700
TZNAME:MST
DTSTART:20261101T080000
END:STANDARD
END:VTIMEZONE
BEGIN:VEVENT
DTSTART;TZID=America/Denver:20250530T093000
DTEND;TZID=America/Denver:20250530T140000
DTSTAMP:20260421T212903
CREATED:20250423T214259Z
LAST-MODIFIED:20250529T165618Z
UID:10023178-1748597400-1748613600@lgbtqcolorado.org
SUMMARY:Wellness Friday at the Denver Botanic Gardens
DESCRIPTION:Wellness Friday at the Denver Botanic Gardens\n**Please Note: Registration for this event is full and now closed** \nWellness is defined as being in good health\, especially when good health is one's active goal. With that in mind\, West of 50 is excited to invite you to our second edition of Wellness Friday: a one-day\, three-part program focusing on Mindful Meditation\, Movement\, and Horticulture Therapy. Enjoy the beautiful sights and smells of the Denver Botanic Gardens as you attend to the needs of your mind\, body\, and spirit. \nEach of the three sessions will run for 45 minutes with a 15 minute transition in between. After the first two sessions\, we will take an hour break for lunch - please bring your own food\, or plan to purchase food from the Botanic Gardens' on-site café. After lunch\, we will return for our third and final session. \nWellness Friday Itinerary \n\n9:30 - 10:00 AM: A Mindful Welcome\n10:00 - 10:45 AM: Session 1\n11:00 - 11:45 AM: Session 2\n11:45 AM - 1:00 PM: Lunch\n1:00 - 1:45 PM: Session 3\n2:00 PM: Attendees released to enjoy the Botanic Gardens\n\nAbout the Sessions \nTherapeutic Horticulture: Led by staff of the Botanic Gardens\, therapeutic horticulture is a plant-based\, outreach and onsite program that helps people experience mindfulness and the restorative health benefits of nature using their senses. \nCreative Meditation: Led by Quána Madison\, participants of this session will look at art inspired by nature\, engage in walking meditation\, and use drawing materials to respond to a creative prompt. \nMindful Movement: Led by Bryant Mehay who also runs West of 50's Movement Class\, this seated session will focus less on exercising movement and more on artistic\, reflective movement that draws inspiration from the nature around us for inspiration. \nAges: 50+ \nDate: Friday\, May 30\, 2025 \nTime: 9:30 AM - 2:00 PM \nLocation: Denver Botanic Gardens - 1007 York St\, Denver\, CO 80206
URL:https://lgbtqcolorado.org/event/wellness-friday/
LOCATION:Denver Botanic Gardens\, 1007 York Street\, Denver\, CO\, 80206\, United States
CATEGORIES:The Center Calendar,West of 50,Arts & Entertainment,Health & Fitness,Older Adults
ATTACH;FMTTYPE=image/jpeg:https://lgbtqcolorado.org/wp-content/uploads/2025/04/2025-WellnessFriday-16x9-V2.jpg
END:VEVENT
BEGIN:VEVENT
DTSTART;TZID=America/Denver:20250530T160000
DTEND;TZID=America/Denver:20250530T180000
DTSTAMP:20260421T212903
CREATED:20241104T213100Z
LAST-MODIFIED:20260109T231327Z
UID:10020115-1748620800-1748628000@lgbtqcolorado.org
SUMMARY:Rainbow Alley's DnD Club
DESCRIPTION:
URL:https://lgbtqcolorado.org/event/rainbow-alley-dnd/2025-05-30/
LOCATION:Rainbow Alley (The Center on Colfax)\, 1301 E. Colfax Ave.\, Denver\, CO\, 80218\, United States
CATEGORIES:The Center Calendar,Rainbow Alley,Arts & Entertainment,Social & Nightlife,Youth & Young Adult
ATTACH;FMTTYPE=image/jpeg:https://lgbtqcolorado.org/wp-content/uploads/2024/11/2025-RA-DnDClub-16x9-1.jpg
GEO:39.7402674;-104.970419
X-APPLE-STRUCTURED-LOCATION;VALUE=URI;X-ADDRESS=Rainbow Alley (The Center on Colfax) 1301 E. Colfax Ave. Denver CO 80218 United States;X-APPLE-RADIUS=500;X-TITLE=1301 E. Colfax Ave.:geo:-104.970419,39.7402674
END:VEVENT
BEGIN:VEVENT
DTSTART;TZID=America/Denver:20250530T170000
DTEND;TZID=America/Denver:20250530T220000
DTSTAMP:20260421T212903
CREATED:20250410T200036Z
LAST-MODIFIED:20250410T200036Z
UID:10023117-1748624400-1748642400@lgbtqcolorado.org
SUMMARY:Intermixed featuring Askkanwii and DJ Prof Elvis & Crafthouse Cocktails
DESCRIPTION:A monthly music series in our rooftop café & bar that is a vibe! Featuring local DJs\, drink & food specials\, and dreamy sunset city views. 21+\n\n\nIntermixed: Beats\, Bites & Bevs is our monthly music series\, where local DJs set the vibe as you sip exhibition-inspired cocktails\, sample locally distilled spirits\, and savor a rotating menu of lite bites. An artful blend of sound\, flavor\, and atmosphere — designed for unwinding at sunset. Join us Friday\, May 30\, as we kick off the holiday weekend featuring Askkanwii & DJ Prof Elvis\, known for their mix of Afrobeats\, Makossa\, Mapuka to Afro-Latina beats\, and a tasting provided by our friends at Crafthouse Cocktails. \n\n\nAbout the DJs \nAskkanwii & DJ Prof Elvis are part of the Askkanwii Cultural Diplomacy Dj Mix Music from Africa. Their platform is a mix of Afrobeat\, Makossa\, Ndobolo\, Mapuka\, Salsa and Afro Latina. \nAbout the Spirits \nCrafthouse Cocktails is a meticulously crafted collection of balanced cocktails\, rivaling those of even the most respected craft cocktail bars created by Chicago bar owner and restauranteur Matt Lindner and Global Bartending Champion\, Charles Joly.
URL:https://lgbtqcolorado.org/event/intermixed-featuring-askkanwii-and-dj-prof-elvis-crafthouse-cocktails/
LOCATION:MCA Denver\, 1485 Delgany St\, Denver\, 80202
CATEGORIES:Community Events
ATTACH;FMTTYPE=image/jpeg:https://lgbtqcolorado.org/wp-content/uploads/2025/04/Summer-Rooftop-Party-House.jpg
ORGANIZER;CN="MCA Denver":MAILTO:mollysharp@gbsm.com
END:VEVENT
BEGIN:VEVENT
DTSTART;TZID=America/Denver:20250530T180000
DTEND;TZID=America/Denver:20250530T220000
DTSTAMP:20260421T212903
CREATED:20250521T150855Z
LAST-MODIFIED:20250521T150855Z
UID:10024105-1748628000-1748642400@lgbtqcolorado.org
SUMMARY:Alexander Foundation's Spring Fling Garden Gala
DESCRIPTION:The Alexander Foundation's popular Spring Fling Garden Gala returns for 2025! \nJoin TAF and your community of friends to kickoff Denver Pride at the Governor's Mansion with an open bar\, heavy h'ors d'oeuvres\, live entertainment\, and a silent auction. Meet your fellow TAF supporters\, connect with other members of the Denver LGBT+ community\, and help advance our mission of direct support to Colorado LGBT+ folks who need it most. \nNew for this year: be a TAF VIP with a limited ticket that includes expedited entry\, VIP drink lines\, and a private tour of the Governor's Residence. Two times are available with limited tickets for each. Join us at your leisure\, but don't be late for your tour!
URL:https://lgbtqcolorado.org/event/alexander-foundations-spring-fling-garden-gala/
LOCATION:The Governor’s Residence at the Boettcher Mansion\, 400 E 8th Ave\, Denver\, 80203
CATEGORIES:Community Events
ATTACH;FMTTYPE=image/jpeg:https://lgbtqcolorado.org/wp-content/uploads/2025/05/spring_fling25-2.jpg
ORGANIZER;CN="The Alexander Foundation":MAILTO:events@thealexanderfoundation.org
END:VEVENT
BEGIN:VEVENT
DTSTART;TZID=America/Denver:20250530T200000
DTEND;TZID=America/Denver:20250530T220000
DTSTAMP:20260421T212903
CREATED:20250519T145915Z
LAST-MODIFIED:20250519T145915Z
UID:10024029-1748635200-1748642400@lgbtqcolorado.org
SUMMARY:Questionable Advice: A Comedy Advice Show
DESCRIPTION:Questionable Advice is the Best Live Show in Denver where the only thing more unpredictable than the laughs is the advice itself. This wildly entertaining night of improvised comedy brings together a panel of quick-witted comedians ready to tackle the audience’s most pressing—or most ridiculous—questions. From the great pineapple on pizza debate to the chaos of dating apps and family holiday disasters\, no topic is too weird\, too big\, or too small.
URL:https://lgbtqcolorado.org/event/questionable-advice-a-comedy-advice-show-3/
LOCATION:Sexploratorium\, 1800 S Broadway\, Denver\, 80210
CATEGORIES:Community Events
ATTACH;FMTTYPE=image/jpeg:https://lgbtqcolorado.org/wp-content/uploads/2025/05/Screenshot-2024-12-10-195534.jpg
ORGANIZER;CN="Sexploratorium":MAILTO:fawn.sexploratorium@gmail.com
END:VEVENT
END:VCALENDAR