BEGIN:VCALENDAR
VERSION:2.0
PRODID:-//The Center on Colfax - LGBTQ Colorado - ECPv6.15.20//NONSGML v1.0//EN
CALSCALE:GREGORIAN
METHOD:PUBLISH
X-WR-CALNAME:The Center on Colfax - LGBTQ Colorado
X-ORIGINAL-URL:https://lgbtqcolorado.org
X-WR-CALDESC:Events for The Center on Colfax - LGBTQ Colorado
REFRESH-INTERVAL;VALUE=DURATION:PT1H
X-Robots-Tag:noindex
X-PUBLISHED-TTL:PT1H
BEGIN:VTIMEZONE
TZID:America/Denver
BEGIN:DAYLIGHT
TZOFFSETFROM:-0700
TZOFFSETTO:-0600
TZNAME:MDT
DTSTART:20240310T090000
END:DAYLIGHT
BEGIN:STANDARD
TZOFFSETFROM:-0600
TZOFFSETTO:-0700
TZNAME:MST
DTSTART:20241103T080000
END:STANDARD
BEGIN:DAYLIGHT
TZOFFSETFROM:-0700
TZOFFSETTO:-0600
TZNAME:MDT
DTSTART:20250309T090000
END:DAYLIGHT
BEGIN:STANDARD
TZOFFSETFROM:-0600
TZOFFSETTO:-0700
TZNAME:MST
DTSTART:20251102T080000
END:STANDARD
BEGIN:DAYLIGHT
TZOFFSETFROM:-0700
TZOFFSETTO:-0600
TZNAME:MDT
DTSTART:20260308T090000
END:DAYLIGHT
BEGIN:STANDARD
TZOFFSETFROM:-0600
TZOFFSETTO:-0700
TZNAME:MST
DTSTART:20261101T080000
END:STANDARD
END:VTIMEZONE
BEGIN:VEVENT
DTSTART;TZID=America/Denver:20250529T100000
DTEND;TZID=America/Denver:20250529T120000
DTSTAMP:20260421T104013
CREATED:20221020T151445Z
LAST-MODIFIED:20260211T224504Z
UID:10012734-1748512800-1748520000@lgbtqcolorado.org
SUMMARY:West of 50 - Open Art Studio Thursdays!
DESCRIPTION:Please join us every Thursday for a drop-in Art Group put on by our West of 50 program. This program is free to attend - the only thing you need to bring is yourself and a creative mind. For more information\, please contact westof50@lgbtqcolorado.org \nWhen: Every Thursday\, 10:00 AM - 12:00 PM \nWhere: The Center on Colfax - 1301 E. Colfax\, Denver\, Colorado 80218
URL:https://lgbtqcolorado.org/event/wof-art-studio/2025-05-29/
LOCATION:The Center on Colfax\, 1301 E. Colfax Ave.\, Denver\, CO\, 80218\, United States
CATEGORIES:The Center Calendar,West of 50,Arts & Entertainment,Older Adults
ATTACH;FMTTYPE=image/jpeg:https://lgbtqcolorado.org/wp-content/uploads/2021/07/OpenArtStudio.jpg
GEO:39.7402674;-104.970419
X-APPLE-STRUCTURED-LOCATION;VALUE=URI;X-ADDRESS=The Center on Colfax 1301 E. Colfax Ave. Denver CO 80218 United States;X-APPLE-RADIUS=500;X-TITLE=1301 E. Colfax Ave.:geo:-104.970419,39.7402674
END:VEVENT
BEGIN:VEVENT
DTSTART;TZID=America/Denver:20250529T123000
DTEND;TZID=America/Denver:20250529T140000
DTSTAMP:20260421T104013
CREATED:20250422T220645Z
LAST-MODIFIED:20250422T220645Z
UID:10023175-1748521800-1748527200@lgbtqcolorado.org
SUMMARY:Lunch Bunch: SubCulture
DESCRIPTION:Join West of 50 for our next Lunch Bunch meeting at SubCulture! Nestled in the historic Penn Garage in Capital Hill\, SubCulture crafts delicious subs made with hand-selected ingredients and fresh daily-baked bread. \nPlease note that attendees are responsible for purchasing their own meals. \nDate: Thursday\, May 29 \nTime: 12:30 - 2:00 PM \nLocation: SubCulture - 1300 Pennsylvania St.\, Ste 102\, Denver\, CO 80203
URL:https://lgbtqcolorado.org/event/lunch-bunch-subculture/
LOCATION:SubCulture\, 1300 Pennsylvania St.\, Ste 102\, Denver\, CO\, 80203\, United States
CATEGORIES:The Center Calendar,West of 50,Older Adults
ATTACH;FMTTYPE=image/jpeg:https://lgbtqcolorado.org/wp-content/uploads/2025/04/2025-05-WoFLunchBunch-Graphics-16x9-1.jpg
END:VEVENT
BEGIN:VEVENT
DTSTART;TZID=America/Denver:20250529T180000
DTEND;TZID=America/Denver:20250529T193000
DTSTAMP:20260421T104013
CREATED:20250521T153326Z
LAST-MODIFIED:20250521T153326Z
UID:10024106-1748541600-1748547000@lgbtqcolorado.org
SUMMARY:Know Your Rights Presentation for LGBTQIA2+ Community
DESCRIPTION:The CEDLaw team is providing Know Your Rights (KYRs) presentations to LGBTQIA2+ individuals regarding their housing & employment rights during these recent administration changes. \nWe wanted to share the news that we will be having an upcoming Know Your Rights presentation at Hooked on Colfax on the 29th of this month! If you think you may benefit from or be interested in this event\, come join us at 6pm! Or if you know of any other friends\, family\, or community members that may benefit from this information\, please feel free to share the event details along to them as well! \nBasic information:\nWhen: Thursday May 29th from 6-7:30pm (the presentation will ideally start right around 6pm)\nWhere: Hooked on Colfax (3213 E. Colfax Ave\, Denver CO 80206) in the lower floor underneath their barista bar area (right as you enter the store\, you can walk into the back area till you see stairs leading to that room). \nAttached below is a PDF flyer to spread the word of this event as well!
URL:https://lgbtqcolorado.org/event/know-your-rights-presentation-for-lgbtqia2-community/
LOCATION:Hooked On Colfax\, 213 E. Colfax Ave\, Denver\, 80206
CATEGORIES:Community Events,Resources
ATTACH;FMTTYPE=image/jpeg:https://lgbtqcolorado.org/wp-content/uploads/2025/05/529-Event-Flyer-1-1.jpg
END:VEVENT
BEGIN:VEVENT
DTSTART;TZID=America/Denver:20250529T180000
DTEND;TZID=America/Denver:20250529T200000
DTSTAMP:20260421T104013
CREATED:20220414T013020Z
LAST-MODIFIED:20250805T161945Z
UID:10008234-1748541600-1748548800@lgbtqcolorado.org
SUMMARY:In-Person Trans Femme Support Group
DESCRIPTION:This in-person peer lead and confidential support group is for individuals who were assigned male at birth and identify as trans women\, trans feminine\, and/or male-to-female (MtF). This is a safe\, drop-in space providing peer-run social support\, engaging conversation\, and relevant resources to attendees. Support groups at The Center on Colfax are always free to attend. No signup necessary. Walk-ins are welcome. \nHow to Get Involved: For any questions\, please contact Joy Iwancio\, Director of Transgender Services\, at JIwancio@lgbtqcolorado.org.\n\nDates: Join us weekly on Thursdays from 6:00 - 8:00 PM
URL:https://lgbtqcolorado.org/event/in-person-trans-femme-support/2025-05-29/
LOCATION:Stonewall Meeting Room\, 1301 E. Colfax Ave.\, Denver\, Colorado\, 80218
CATEGORIES:The Center Calendar,Transgender Program,Support Groups
ATTACH;FMTTYPE=image/jpeg:https://lgbtqcolorado.org/wp-content/uploads/2022/04/TransFemme-InPerson-16x9-2.jpg
END:VEVENT
BEGIN:VEVENT
DTSTART;TZID=America/Denver:20250529T183000
DTEND;TZID=America/Denver:20250529T200000
DTSTAMP:20260421T104013
CREATED:20220414T012626Z
LAST-MODIFIED:20251006T154239Z
UID:10014444-1748543400-1748548800@lgbtqcolorado.org
SUMMARY:Online Trans Femme Support Group
DESCRIPTION:MUST BE 18 YEARS OLD \nThis online peer lead and confidential support group is for individuals who were assigned male at birth and identify as trans women\, trans feminine\, and/or male-to-female (MtF). This is a safe space providing peer-run social support\, engaging conversation\, and relevant resources to attendees. Support groups at The Center on Colfax are always free to attend. \nDates: Every Thursday from 6:30 - 8:00 PM.  \nFor Registration and/or Questions: Please contact Terwanda McMoore\, Support Group Coordinator\, at tmcmoore@lgbtqcolorado.org
URL:https://lgbtqcolorado.org/event/online-trans-femme-support/2025-05-29/
LOCATION:Online
CATEGORIES:The Center Calendar,Transgender Program,Support Groups
ATTACH;FMTTYPE=image/jpeg:https://lgbtqcolorado.org/wp-content/uploads/2022/04/TransFemme-Online-16x9-1.jpg
END:VEVENT
END:VCALENDAR